BEGIN:VCALENDAR
VERSION:2.0
PRODID:-//WP EVENT Manager Ical//NONSGML Events //EN
CALSCALE:GREGORIAN

BEGIN:VEVENT

DTSTART:20231026T122310PMZ
DTEND:20231029T122310PMZ
LOCATION:Baha Mar, 1 Baha Mar Blvd, Nassau, Bahamas
SUMMARY:The Bahamas Culinary & Arts Festival Test Event
DESCRIPTION:
END:VEVENT
END:VCALENDAR
