BEGIN:VCALENDAR
VERSION:2.0
PRODID:-//WP EVENT Manager Ical//NONSGML Events //EN
CALSCALE:GREGORIAN

BEGIN:VEVENT

DTSTART:20240304T182031PMZ
DTEND:20240307T182031PMZ
LOCATION:429 11th Avenue
SUMMARY:ADL: Never Is Now
DESCRIPTION:
END:VEVENT
END:VCALENDAR
